BEGIN:VCALENDAR
VERSION:2.0
PRODID:-//Premium Crops//NONSGML kigkonsult.se iCalcreator 2.30.10//
CALSCALE:GREGORIAN
METHOD:PUBLISH
UID:4ac5c258-d605-4698-88a0-864701540596
X-WR-CALNAME:iCagenda
X-WR-CALDESC:Event Management Extension for Joomla!
X-WR-RELCALID:3E26604A-50F4-4449-8B3E-E4F4932D05B5
X-WR-TIMEZONE:Europe/London
BEGIN:VTIMEZONE
TZID:Europe/London
BEGIN:STANDARD
TZNAME:GMT
DTSTART:20251026T020000
TZOFFSETFROM:+0100
TZOFFSETTO:+0000
RDATE:20261025T020000
END:STANDARD
BEGIN:DAYLIGHT
TZNAME:BST
DTSTART:20250330T010000
TZOFFSETFROM:+0000
TZOFFSETTO:+0100
RDATE:20260329T010000
RDATE:20270328T010000
END:DAYLIGHT
END:VTIMEZONE
BEGIN:VEVENT
UID:fab004fb-dcb7-49d9-8a90-1c8cbfa62f8b
DTSTAMP:20260424T081925Z
CATEGORIES:Events
CLASS:PUBLIC
DESCRIPTION:
DTSTART:20260115T000000Z
DTEND:20260115T000000Z
GEO:+52.452206;-1.718748
LOCATION:National Exhibition Centre
ORGANIZER:
SEQUENCE:1
SUMMARY:CropTec / LAMMA / Low Carbon Agriculture
TRANSP:OPAQUE
URL:https://www.premiumcrops.com/events/18-croptec-lamma-low-carbon-agricul
 ture/2026-01-15-00-00.html
END:VEVENT
END:VCALENDAR
