BEGIN:VCALENDAR
VERSION:2.0
PRODID:-//Premium Crops//NONSGML kigkonsult.se iCalcreator 2.30.10//
CALSCALE:GREGORIAN
METHOD:PUBLISH
UID:2b467435-bb35-4566-9263-704ce3e47ef6
X-WR-CALNAME:iCagenda
X-WR-CALDESC:Event Management Extension for Joomla!
X-WR-RELCALID:3E26604A-50F4-4449-8B3E-E4F4932D05B5
X-WR-TIMEZONE:Europe/London
BEGIN:VTIMEZONE
TZID:Europe/London
BEGIN:STANDARD
TZNAME:GMT
DTSTART:20251026T020000
TZOFFSETFROM:+0100
TZOFFSETTO:+0000
RDATE:20261025T020000
END:STANDARD
BEGIN:DAYLIGHT
TZNAME:BST
DTSTART:20250330T010000
TZOFFSETFROM:+0000
TZOFFSETTO:+0100
RDATE:20260329T010000
RDATE:20270328T010000
END:DAYLIGHT
END:VTIMEZONE
BEGIN:VEVENT
UID:de680440-8e1a-4b22-8e99-e41924301334
DTSTAMP:20260420T085647Z
CATEGORIES:Events
CLASS:PUBLIC
DESCRIPTION:
DTSTART:20260114T000000Z
DTEND:20260114T000000Z
GEO:+52.08033;-0.998162
LOCATION:Whittlebury Hall
ORGANIZER:
SEQUENCE:1
SUMMARY:AICC Conference
TRANSP:OPAQUE
URL:https://www.premiumcrops.com/events/17-aicc-conference-2/2026-01-14-00-
 00.html
END:VEVENT
END:VCALENDAR
