BEGIN:VCALENDAR
VERSION:2.0
PRODID:-//Premium Crops//NONSGML kigkonsult.se iCalcreator 2.30.10//
CALSCALE:GREGORIAN
METHOD:PUBLISH
UID:92fdde4c-d11f-4e7e-8ce7-4633b80cf6e5
X-WR-CALNAME:iCagenda
X-WR-CALDESC:Event Management Extension for Joomla!
X-WR-RELCALID:3E26604A-50F4-4449-8B3E-E4F4932D05B5
X-WR-TIMEZONE:Europe/London
BEGIN:VTIMEZONE
TZID:Europe/London
BEGIN:STANDARD
TZNAME:GMT
DTSTART:20241027T020000
TZOFFSETFROM:+0100
TZOFFSETTO:+0000
RDATE:20251026T020000
END:STANDARD
BEGIN:DAYLIGHT
TZNAME:BST
DTSTART:20240331T010000
TZOFFSETFROM:+0000
TZOFFSETTO:+0100
RDATE:20250330T010000
RDATE:20260329T010000
END:DAYLIGHT
END:VTIMEZONE
BEGIN:VEVENT
UID:66578c71-1bbd-4df3-a43f-e0e13f338aee
DTSTAMP:20260423T023548Z
CATEGORIES:Events
CLASS:PUBLIC
DESCRIPTION:
DTSTART:20250114T000000Z
DTEND:20250114T000000Z
GEO:00;0
LOCATION:
ORGANIZER;CN=:info@aicc.org.uk
SEQUENCE:1
SUMMARY:AICC Conference
TRANSP:OPAQUE
URL:https://www.premiumcrops.com/events/13-aicc-conference/2025-01-14-00-00
 .html
END:VEVENT
END:VCALENDAR
